BEGIN:VCALENDAR
VERSION:2.0
CALSCALE:GREGORIAN
PRODID:-//Diputació de Barcelona//DibaCMS//EN
BEGIN:VEVENT
UID:15269
DTSTAMP:20260425T214153
DTSTART:20251019T120000
DTEND:20251019T133000
SUMMARY:Inauguració de l'exposició i presentació del llibre "Veïns a la porta"
LOCATION:Espai Garum (c. d'Anselm Clavé, 6) 
METHOD:PUBLISH
X-WR-CALNAME:ajuntament@llicamunt.cat
X-WR-TIMEZONE:Europe/Madrid
DESCRIPTION:
URI:https://www.llicamunt.cat/actualitat/agenda/inauguracio-de-lexposicio-i-presentacio-del-llibre-veins-a-la-porta.html
CLASS:PUBLIC
END:VEVENT
END:VCALENDAR
