BEGIN:VCALENDAR
VERSION:2.0
CALSCALE:GREGORIAN
PRODID:-//Diputació de Barcelona//DibaCMS//EN
BEGIN:VEVENT
UID:15270
DTSTAMP:20260425T213718
DTSTART:20251018T220000
DTEND:20251018T235900
SUMMARY: Lliksound 
LOCATION:c. de l'Aliança, 17 08186 Lliçà d'Amunt
METHOD:PUBLISH
X-WR-CALNAME:ajuntament@llicamunt.cat
X-WR-TIMEZONE:Europe/Madrid
DESCRIPTION:
URI:https://www.llicamunt.cat/actualitat/agenda/-lliksound-.html
CLASS:PUBLIC
END:VEVENT
END:VCALENDAR
