BEGIN:VCALENDAR
VERSION:2.0
CALSCALE:GREGORIAN
PRODID:-//Diputació de Barcelona//DibaCMS//EN
BEGIN:VEVENT
UID:15271
DTSTAMP:20260425T213826
DTSTART:20251017T190000
DTEND:20251017T210000
SUMMARY:Converses del centenari
LOCATION:c. de l'Aliança, 17 08186 Lliçà d'Amunt
METHOD:PUBLISH
X-WR-CALNAME:ajuntament@llicamunt.cat
X-WR-TIMEZONE:Europe/Madrid
DESCRIPTION:Acte en el marc de la commemoració del Centenari de l'Ateneu L'Aliança.

URI:https://www.llicamunt.cat/actualitat/agenda/converses-del-centenari.html
CLASS:PUBLIC
END:VEVENT
END:VCALENDAR
