BEGIN:VCALENDAR
VERSION:2.0
CALSCALE:GREGORIAN
PRODID:-//Diputació de Barcelona//DibaCMS//EN
BEGIN:VEVENT
UID:15272
DTSTAMP:20260426T024553
DTSTART:20251019T170000
DTEND:20251019T190000
SUMMARY:Espectacles familiars "El secret de la detectiva Klaus"
LOCATION:c. de l'Aliança, 17 08186 Lliçà d'Amunt
METHOD:PUBLISH
X-WR-CALNAME:ajuntament@llicamunt.cat
X-WR-TIMEZONE:Europe/Madrid
DESCRIPTION:
URI:https://www.llicamunt.cat/actualitat/agenda/espectacles-familiars-el-secret-de-la-detectiva-klaus.html
CLASS:PUBLIC
END:VEVENT
END:VCALENDAR
