BEGIN:VCALENDAR
VERSION:2.0
CALSCALE:GREGORIAN
PRODID:-//Diputació de Barcelona//DibaCMS//EN
BEGIN:VEVENT
UID:15273
DTSTAMP:20260425T225442
DTSTART:20251021T183000
DTEND:20251021T203000
SUMMARY:Parlem-ne!: "El pa que ens arrela"
LOCATION:Carrer de la Ribera d'Ebre, 81, planta baja 08186   Lliçà d'Amunt
METHOD:PUBLISH
X-WR-CALNAME:ajuntament@llicamunt.cat
X-WR-TIMEZONE:Europe/Madrid
DESCRIPTION:
URI:https://www.llicamunt.cat/actualitat/agenda/parlem-ne-el-pa-que-ens-arrela.html
CLASS:PUBLIC
END:VEVENT
END:VCALENDAR
