BEGIN:VCALENDAR
VERSION:2.0
CALSCALE:GREGORIAN
PRODID:-//Diputació de Barcelona//DibaCMS//EN
BEGIN:VEVENT
UID:15274
DTSTAMP:20260425T213401
DTSTART:20251023T190000
DTEND:20251023T203000
SUMMARY:Parlem-ne!: "Allibera't de la por i l'ansietat"
LOCATION:c. del Segre, 65 (Palaudàries) 08186   Lliçà d'Amunt
METHOD:PUBLISH
X-WR-CALNAME:ajuntament@llicamunt.cat
X-WR-TIMEZONE:Europe/Madrid
DESCRIPTION:
URI:https://www.llicamunt.cat/actualitat/agenda/parlem-ne-alliberat-de-la-por-i-lansietat.html
CLASS:PUBLIC
END:VEVENT
END:VCALENDAR
