BEGIN:VCALENDAR
VERSION:2.0
CALSCALE:GREGORIAN
PRODID:-//Diputació de Barcelona//DibaCMS//EN
BEGIN:VEVENT
UID:15277
DTSTAMP:20260425T225518
DTSTART:20251022T193000
DTEND:20251022T213000
SUMMARY:Bufem les espelmes
LOCATION:c. de l'Aliança, 17 08186 Lliçà d'Amunt
METHOD:PUBLISH
X-WR-CALNAME:ajuntament@llicamunt.cat
X-WR-TIMEZONE:Europe/Madrid
DESCRIPTION:Acte en el marc de la commemoració del Centenari de l'Ateneu L'Aliança.

URI:https://www.llicamunt.cat/actualitat/agenda/bufem-les-espelmes.html
CLASS:PUBLIC
END:VEVENT
END:VCALENDAR
