BEGIN:VCALENDAR
VERSION:2.0
CALSCALE:GREGORIAN
PRODID:-//Diputació de Barcelona//DibaCMS//EN
BEGIN:VEVENT
UID:15280
DTSTAMP:20260425T230842
DTSTART:20251025T100000
DTEND:20251025T120000
SUMMARY:Engalanament popular de la sala
LOCATION:c. de l'Aliança, 17 08186 Lliçà d'Amunt
METHOD:PUBLISH
X-WR-CALNAME:ajuntament@llicamunt.cat
X-WR-TIMEZONE:Europe/Madrid
DESCRIPTION:Acte en el marc de la commemoració del Centenari de l'Ateneu L'Aliança.

URI:https://www.llicamunt.cat/actualitat/agenda/engalanament-popular-de-la-sala.html
CLASS:PUBLIC
END:VEVENT
END:VCALENDAR
