BEGIN:VCALENDAR
VERSION:2.0
CALSCALE:GREGORIAN
PRODID:-//Diputació de Barcelona//DibaCMS//EN
BEGIN:VEVENT
UID:15281
DTSTAMP:20260426T003936
DTSTART:20251025T193000
DTEND:20251025T233000
SUMMARY:Túnel del Terror Club de Tennis Ca l'Artigues
LOCATION:
METHOD:PUBLISH
X-WR-CALNAME:ajuntament@llicamunt.cat
X-WR-TIMEZONE:Europe/Madrid
DESCRIPTION:
URI:https://www.llicamunt.cat/actualitat/agenda/tunel-del-terror-club-de-tennis-ca-lartigues.html
CLASS:PUBLIC
END:VEVENT
END:VCALENDAR
