BEGIN:VCALENDAR
VERSION:2.0
CALSCALE:GREGORIAN
PRODID:-//Diputació de Barcelona//DibaCMS//EN
BEGIN:VEVENT
UID:15287
DTSTAMP:20260425T213215
DTSTART:20251030T173000
DTEND:20251030T193000
SUMMARY:Tarda de cinema amb peli de terror
LOCATION:C/Castelló de la Plana, 11 08186   Lliçà d'Amunt
METHOD:PUBLISH
X-WR-CALNAME:ajuntament@llicamunt.cat
X-WR-TIMEZONE:Europe/Madrid
DESCRIPTION:
URI:https://www.llicamunt.cat/actualitat/agenda/15287-tarda-de-cinema-amb-peli-de-terror.html
CLASS:PUBLIC
END:VEVENT
END:VCALENDAR
