BEGIN:VCALENDAR
VERSION:2.0
CALSCALE:GREGORIAN
PRODID:-//Diputació de Barcelona//DibaCMS//EN
BEGIN:VEVENT
UID:15290
DTSTAMP:20260425T221209
DTSTART:20251004T170000
DTEND:20251004T200000
SUMMARY:Festa d'inici de l'Esplai
LOCATION:Pinar de la riera 
METHOD:PUBLISH
X-WR-CALNAME:ajuntament@llicamunt.cat
X-WR-TIMEZONE:Europe/Madrid
DESCRIPTION:
URI:https://www.llicamunt.cat/actualitat/agenda/15290-festa-dinici-de-lesplai.html
CLASS:PUBLIC
END:VEVENT
END:VCALENDAR
