BEGIN:VCALENDAR
VERSION:2.0
CALSCALE:GREGORIAN
PRODID:-//Diputació de Barcelona//DibaCMS//EN
BEGIN:VEVENT
UID:15309
DTSTAMP:20260425T232145
DTSTART:20251025T090000
DTEND:20251025T130000
SUMMARY:Descobrim Lliçà d'Amunt "Ruta de tardor"
LOCATION:Sortida des del Parc del Tenes 
METHOD:PUBLISH
X-WR-CALNAME:ajuntament@llicamunt.cat
X-WR-TIMEZONE:Europe/Madrid
DESCRIPTION:
URI:https://www.llicamunt.cat/actualitat/agenda/descobrim-llica-damunt-ruta-de-tardor.html
CLASS:PUBLIC
END:VEVENT
END:VCALENDAR
