BEGIN:VCALENDAR
VERSION:2.0
CALSCALE:GREGORIAN
PRODID:-//Diputació de Barcelona//DibaCMS//EN
BEGIN:VEVENT
UID:15315
DTSTAMP:20260426T013858
DTSTART:20251108T180000
DTEND:20251109T010000
SUMMARY:18a Nit de Terror 
LOCATION:Camí de Can Malé s/n 08186 Lliçà d'Amunt
METHOD:PUBLISH
X-WR-CALNAME:ajuntament@llicamunt.cat
X-WR-TIMEZONE:Europe/Madrid
DESCRIPTION:
URI:https://www.llicamunt.cat/actualitat/agenda/18a-nit-de-terror-.html
CLASS:PUBLIC
END:VEVENT
END:VCALENDAR
