BEGIN:VCALENDAR
VERSION:2.0
CALSCALE:GREGORIAN
PRODID:-//Diputació de Barcelona//DibaCMS//EN
BEGIN:VEVENT
UID:15320
DTSTAMP:20260425T225417
DTSTART:20251025T170000
DTEND:20251025T193000
SUMMARY:Visita teatralitzada a L'Ateneu L'Aliança
LOCATION:c. de l'Aliança, 17 08186 Lliçà d'Amunt
METHOD:PUBLISH
X-WR-CALNAME:ajuntament@llicamunt.cat
X-WR-TIMEZONE:Europe/Madrid
DESCRIPTION:Acte en el marc de la commemoració del Centenari de l'Ateneu L'Aliança.

URI:https://www.llicamunt.cat/actualitat/agenda/visita-teatralitzada-a-lateneu-lalianca.html
CLASS:PUBLIC
END:VEVENT
END:VCALENDAR
