BEGIN:VCALENDAR
VERSION:2.0
CALSCALE:GREGORIAN
PRODID:-//Diputació de Barcelona//DibaCMS//EN
BEGIN:VEVENT
UID:15326
DTSTAMP:20260425T201538
DTSTART:20251027T150000
DTEND:20251027T163000
SUMMARY:Mindfulness i benestar en català per a persones nouvingudes
LOCATION:c. de Jaume I, 32 08186 Lliçà d'Amunt
METHOD:PUBLISH
X-WR-CALNAME:ajuntament@llicamunt.cat
X-WR-TIMEZONE:Europe/Madrid
DESCRIPTION:
URI:https://www.llicamunt.cat/actualitat/agenda/mindfulness-i-benestar-en-catala-per-a-persones-nouvingudes.html
CLASS:PUBLIC
END:VEVENT
END:VCALENDAR
