BEGIN:VCALENDAR
VERSION:2.0
CALSCALE:GREGORIAN
PRODID:-//Diputació de Barcelona//DibaCMS//EN
BEGIN:VEVENT
UID:15336
DTSTAMP:20260425T214035
DTSTART:20251031T173000
DTEND:20251031T210000
SUMMARY:Activitats de Halloween i Castanyada al Local Social de Can Xicota
LOCATION:C. de la Pica d'Estats, s/n - Parc dels Pirineus 08186   Lliçà d'Amunt
METHOD:PUBLISH
X-WR-CALNAME:ajuntament@llicamunt.cat
X-WR-TIMEZONE:Europe/Madrid
DESCRIPTION:
URI:https://www.llicamunt.cat/actualitat/agenda/activitats-de-halloween-i-castanyada-al-local-social-de-can-xicota.html
CLASS:PUBLIC
END:VEVENT
END:VCALENDAR
