BEGIN:VCALENDAR
VERSION:2.0
CALSCALE:GREGORIAN
PRODID:-//Diputació de Barcelona//DibaCMS//EN
BEGIN:VEVENT
UID:15340
DTSTAMP:20260426T002537
DTSTART:20251111T173000
DTEND:20251111T200000
SUMMARY:Taller: Construeix l'univers peça a peça
LOCATION:c. de Castelló de la Plana, 11 08186   Lliçà d'Amunt
METHOD:PUBLISH
X-WR-CALNAME:ajuntament@llicamunt.cat
X-WR-TIMEZONE:Europe/Madrid
DESCRIPTION:En el marc de la Setmana de la Ciència 2025

URI:https://www.llicamunt.cat/actualitat/agenda/taller-construeix-lunivers-peca-a-peca.html
CLASS:PUBLIC
END:VEVENT
END:VCALENDAR
