BEGIN:VCALENDAR
VERSION:2.0
CALSCALE:GREGORIAN
PRODID:-//Diputació de Barcelona//DibaCMS//EN
BEGIN:VEVENT
UID:15341
DTSTAMP:20260426T003412
DTSTART:20251112T173000
DTEND:20251112T193000
SUMMARY:Taller: Mira, toca i descobreix els animals invertebrats
LOCATION:c. de Castelló de la Plana, 11 08186   Lliçà d'Amunt
METHOD:PUBLISH
X-WR-CALNAME:ajuntament@llicamunt.cat
X-WR-TIMEZONE:Europe/Madrid
DESCRIPTION:En el marc de la Setmana de la Ciència 2025

URI:https://www.llicamunt.cat/actualitat/agenda/taller-mira-toca-i-descobreix-els-animals-invertebrats.html
CLASS:PUBLIC
END:VEVENT
END:VCALENDAR
