BEGIN:VCALENDAR
VERSION:2.0
CALSCALE:GREGORIAN
PRODID:-//Diputació de Barcelona//DibaCMS//EN
BEGIN:VEVENT
UID:15349
DTSTAMP:20260426T055445
DTSTART:20251126T183000
DTEND:20251126T200000
SUMMARY:Parlem-ne!: "Les emocions que no es veuen"
LOCATION:Carrer de la Ribera d'Ebre, 81, planta baja 08186   Lliçà d'Amunt
METHOD:PUBLISH
X-WR-CALNAME:ajuntament@llicamunt.cat
X-WR-TIMEZONE:Europe/Madrid
DESCRIPTION:
URI:https://www.llicamunt.cat/actualitat/agenda/parlem-ne-les-emocions-que-no-es-veuen.html
CLASS:PUBLIC
END:VEVENT
END:VCALENDAR
