BEGIN:VCALENDAR
VERSION:2.0
CALSCALE:GREGORIAN
PRODID:-//Diputació de Barcelona//DibaCMS//EN
BEGIN:VEVENT
UID:15356
DTSTAMP:20260426T030652
DTSTART:20251110T093000
DTEND:20251110T120000
SUMMARY:Xerrada "Tinc 70 anys i l'altre dia en tenia 18"
LOCATION:c. de Folch i Torres, 102 08186   Lliçà d'Amunt
METHOD:PUBLISH
X-WR-CALNAME:ajuntament@llicamunt.cat
X-WR-TIMEZONE:Europe/Madrid
DESCRIPTION:En el marc de la Setmana de la Gent Gran

URI:https://www.llicamunt.cat/actualitat/agenda/xerrada-tinc-70-anys-i-laltre-dia-en-tenia-18.html
CLASS:PUBLIC
END:VEVENT
END:VCALENDAR
