BEGIN:VCALENDAR
VERSION:2.0
CALSCALE:GREGORIAN
PRODID:-//Diputació de Barcelona//DibaCMS//EN
BEGIN:VEVENT
UID:15357
DTSTAMP:20260426T014601
DTSTART:20251114T113000
DTEND:20251114T133000
SUMMARY:Xerrada "Val més prevenir! Com podem protegir legalment el nostre futur?"
LOCATION:c. de Folch i Torres, 102 08186   Lliçà d'Amunt
METHOD:PUBLISH
X-WR-CALNAME:ajuntament@llicamunt.cat
X-WR-TIMEZONE:Europe/Madrid
DESCRIPTION:En el marc de la Setmana de la Gent Gran

URI:https://www.llicamunt.cat/actualitat/agenda/xerrada-val-mes-prevenir-com-podem-protegir-legalment-el-nostre-futur.html
CLASS:PUBLIC
END:VEVENT
END:VCALENDAR
