BEGIN:VCALENDAR
VERSION:2.0
CALSCALE:GREGORIAN
PRODID:-//Diputació de Barcelona//DibaCMS//EN
BEGIN:VEVENT
UID:15369
DTSTAMP:20260426T030624
DTSTART:20251103T000000
DTEND:20251129T000000
SUMMARY:Exposició del projecte educatiu "Conte viu"del curs 2024-2025
LOCATION:c. de Castelló de la Plana, 11 08186   Lliçà d'Amunt
METHOD:PUBLISH
X-WR-CALNAME:ajuntament@llicamunt.cat
X-WR-TIMEZONE:Europe/Madrid
DESCRIPTION:Del 3 al 29 de novembre

URI:https://www.llicamunt.cat/actualitat/agenda/exposicio-del-projecte-educatiu-conte-viudel-curs-2024-2025.html
CLASS:PUBLIC
END:VEVENT
END:VCALENDAR
