BEGIN:VCALENDAR
VERSION:2.0
CALSCALE:GREGORIAN
PRODID:-//Diputació de Barcelona//DibaCMS//EN
BEGIN:VEVENT
UID:15372
DTSTAMP:20260426T002521
DTSTART:20251116T170000
DTEND:20251116T190000
SUMMARY:Espectacles familiars "The Postman"
LOCATION:c. de l'Aliança, 17 08186 Lliçà d'Amunt
METHOD:PUBLISH
X-WR-CALNAME:ajuntament@llicamunt.cat
X-WR-TIMEZONE:Europe/Madrid
DESCRIPTION:
URI:https://www.llicamunt.cat/actualitat/agenda/espectacles-familiars-the-postman.html
CLASS:PUBLIC
END:VEVENT
END:VCALENDAR
