BEGIN:VCALENDAR
VERSION:2.0
CALSCALE:GREGORIAN
PRODID:-//Diputació de Barcelona//DibaCMS//EN
BEGIN:VEVENT
UID:15376
DTSTAMP:20260426T001312
DTSTART:20251120T180000
DTEND:20251120T190000
SUMMARY:"Muggle": Club de lectura per a infants
LOCATION:c. de Castelló de la Plana, 11 08186   Lliçà d'Amunt
METHOD:PUBLISH
X-WR-CALNAME:ajuntament@llicamunt.cat
X-WR-TIMEZONE:Europe/Madrid
DESCRIPTION:
URI:https://www.llicamunt.cat/actualitat/agenda/15376-muggle-club-de-lectura-per-a-infants.html
CLASS:PUBLIC
END:VEVENT
END:VCALENDAR
