BEGIN:VCALENDAR
VERSION:2.0
CALSCALE:GREGORIAN
PRODID:-//Diputació de Barcelona//DibaCMS//EN
BEGIN:VEVENT
UID:15378
DTSTAMP:20260425T231442
DTSTART:20251121T000000
DTEND:20251121T000000
SUMMARY:Exposició - joc de llibre il·lustrats i àlbums "25 imperdibles"
LOCATION:
METHOD:PUBLISH
X-WR-CALNAME:ajuntament@llicamunt.cat
X-WR-TIMEZONE:Europe/Madrid
DESCRIPTION:Del 21 de novembre al 13 de desembre

URI:https://www.llicamunt.cat/actualitat/agenda/exposicio-joc-de-llibre-illustrats-i-albums-25-imperdibles.html
CLASS:PUBLIC
END:VEVENT
END:VCALENDAR
