BEGIN:VCALENDAR
VERSION:2.0
CALSCALE:GREGORIAN
PRODID:-//Diputació de Barcelona//DibaCMS//EN
BEGIN:VEVENT
UID:15381
DTSTAMP:20260426T061050
DTSTART:20251124T170000
DTEND:20251124T180000
SUMMARY:Espai literari familiar "El binomi fantàstic"  
LOCATION:c. de Castelló de la Plana, 11 08186   Lliçà d'Amunt
METHOD:PUBLISH
X-WR-CALNAME:ajuntament@llicamunt.cat
X-WR-TIMEZONE:Europe/Madrid
DESCRIPTION:
URI:https://www.llicamunt.cat/actualitat/agenda/15381-espai-literari-familiar-el-binomi-fantastic-.html
CLASS:PUBLIC
END:VEVENT
END:VCALENDAR
