BEGIN:VCALENDAR
VERSION:2.0
CALSCALE:GREGORIAN
PRODID:-//Diputació de Barcelona//DibaCMS//EN
BEGIN:VEVENT
UID:15386
DTSTAMP:20260426T015006
DTSTART:20251127T190000
DTEND:20251127T210000
SUMMARY:Sessió ordinària del Ple Municipall
LOCATION:c. de Folch i Torres, 102 08186   Lliçà d'Amunt
METHOD:PUBLISH
X-WR-CALNAME:ajuntament@llicamunt.cat
X-WR-TIMEZONE:Europe/Madrid
DESCRIPTION:
URI:https://www.llicamunt.cat/actualitat/agenda/sessio-ordinaria-del-ple-municipall.html
CLASS:PUBLIC
END:VEVENT
END:VCALENDAR
