BEGIN:VCALENDAR
VERSION:2.0
CALSCALE:GREGORIAN
PRODID:-//Diputació de Barcelona//DibaCMS//EN
BEGIN:VEVENT
UID:15387
DTSTAMP:20260426T011848
DTSTART:20251128T173000
DTEND:20251128T193000
SUMMARY:Taller sobre violències masclistes digitals "A un clic"
LOCATION:c. de Castelló de la Plana, 11 08186   Lliçà d'Amunt
METHOD:PUBLISH
X-WR-CALNAME:ajuntament@llicamunt.cat
X-WR-TIMEZONE:Europe/Madrid
DESCRIPTION:En el marc del actes de commemoració del 25N, Dia Internacional per a l'Eliminació de la Violència envers les Dones

URI:https://www.llicamunt.cat/actualitat/agenda/taller-sobre-violencies-masclistes-digitals-a-un-clic.html
CLASS:PUBLIC
END:VEVENT
END:VCALENDAR
