BEGIN:VCALENDAR
VERSION:2.0
CALSCALE:GREGORIAN
PRODID:-//Diputació de Barcelona//DibaCMS//EN
BEGIN:VEVENT
UID:15389
DTSTAMP:20260425T231026
DTSTART:20251129T220000
DTEND:20251130T013000
SUMMARY: Lliksound 100FEST
LOCATION:c. de l'Aliança, 17 08186 Lliçà d'Amunt
METHOD:PUBLISH
X-WR-CALNAME:ajuntament@llicamunt.cat
X-WR-TIMEZONE:Europe/Madrid
DESCRIPTION:En el marc dels actes del Centenari

URI:https://www.llicamunt.cat/actualitat/agenda/-lliksound-100fest.html
CLASS:PUBLIC
END:VEVENT
END:VCALENDAR
