BEGIN:VCALENDAR
VERSION:2.0
CALSCALE:GREGORIAN
PRODID:-//Diputació de Barcelona//DibaCMS//EN
BEGIN:VEVENT
UID:15397
DTSTAMP:20260426T014056
DTSTART:20251206T100000
DTEND:20251207T140000
SUMMARY:Caça el teu Tió 2025
LOCATION:Canvi d'ubicació: l'activitat es trasllada a l'Era de la Biblioteca Ca l'Oliveres 
METHOD:PUBLISH
X-WR-CALNAME:ajuntament@llicamunt.cat
X-WR-TIMEZONE:Europe/Madrid
DESCRIPTION:Canvi d'ubicació: l'activitat es trasllada a l'Era de la Biblioteca Ca l'Oliveres

URI:https://www.llicamunt.cat/actualitat/agenda/caca-el-teu-tio-2025.html
CLASS:PUBLIC
END:VEVENT
END:VCALENDAR
