BEGIN:VCALENDAR
VERSION:2.0
CALSCALE:GREGORIAN
PRODID:-//Diputació de Barcelona//DibaCMS//EN
BEGIN:VEVENT
UID:15398
DTSTAMP:20260426T020442
DTSTART:20251221T100000
DTEND:20251221T130000
SUMMARY:El Pare Noel visita el Mercat setmanal 
LOCATION:Mercat setmanal 
METHOD:PUBLISH
X-WR-CALNAME:ajuntament@llicamunt.cat
X-WR-TIMEZONE:Europe/Madrid
DESCRIPTION:
URI:https://www.llicamunt.cat/actualitat/agenda/el-pare-noel-visita-el-mercat-setmanal-.html
CLASS:PUBLIC
END:VEVENT
END:VCALENDAR
