BEGIN:VCALENDAR
VERSION:2.0
CALSCALE:GREGORIAN
PRODID:-//Diputació de Barcelona//DibaCMS//EN
BEGIN:VEVENT
UID:15400
DTSTAMP:20260424T092043
DTSTART:20241225T180000
DTEND:20241225T210000
SUMMARY:Quinto de Nadal - duplicat
LOCATION:c. de l'Aliança, 17 08186 Lliçà d'Amunt
METHOD:PUBLISH
X-WR-CALNAME:ajuntament@llicamunt.cat
X-WR-TIMEZONE:Europe/Madrid
DESCRIPTION:
URI:https://www.llicamunt.cat/actualitat/agenda/14459-quinto-de-nadal-duplicat.html
CLASS:PUBLIC
END:VEVENT
END:VCALENDAR
