BEGIN:VCALENDAR
VERSION:2.0
CALSCALE:GREGORIAN
PRODID:-//Diputació de Barcelona//DibaCMS//EN
BEGIN:VEVENT
UID:15404
DTSTAMP:20260426T003335
DTSTART:20251209T180000
DTEND:20251209T200000
SUMMARY:Taller de cuina infantil: Mini xefs al Microones
LOCATION:Carrer de la Ribera d'Ebre, 81, planta baja 08186   Lliçà d'Amunt
METHOD:PUBLISH
X-WR-CALNAME:ajuntament@llicamunt.cat
X-WR-TIMEZONE:Europe/Madrid
DESCRIPTION:
URI:https://www.llicamunt.cat/actualitat/agenda/taller-de-cuina-infantil-mini-xefs-al-microones.html
CLASS:PUBLIC
END:VEVENT
END:VCALENDAR
