BEGIN:VCALENDAR
VERSION:2.0
CALSCALE:GREGORIAN
PRODID:-//Diputació de Barcelona//DibaCMS//EN
BEGIN:VEVENT
UID:15456
DTSTAMP:20260426T020657
DTSTART:20251223T173000
DTEND:20251223T193000
SUMMARY:Tarda de cinema amb peli de Nadal
LOCATION:C/Castelló de la Plana, 11 08186   Lliçà d'Amunt
METHOD:PUBLISH
X-WR-CALNAME:ajuntament@llicamunt.cat
X-WR-TIMEZONE:Europe/Madrid
DESCRIPTION:
URI:https://www.llicamunt.cat/actualitat/agenda/tarda-de-cinema-amb-peli-de-nadal.html
CLASS:PUBLIC
END:VEVENT
END:VCALENDAR
