BEGIN:VCALENDAR
VERSION:2.0
CALSCALE:GREGORIAN
PRODID:-//Diputació de Barcelona//DibaCMS//EN
BEGIN:VEVENT
UID:15474
DTSTAMP:20260426T015711
DTSTART:20251220T204500
DTEND:20251220T220000
SUMMARY:Concert de Nadal
LOCATION:Costa de Can Puig, s/n 08186 Lliçà d'Amunt
METHOD:PUBLISH
X-WR-CALNAME:ajuntament@llicamunt.cat
X-WR-TIMEZONE:Europe/Madrid
DESCRIPTION:
URI:https://www.llicamunt.cat/actualitat/agenda/15474-concert-de-nadal.html
CLASS:PUBLIC
END:VEVENT
END:VCALENDAR
