BEGIN:VCALENDAR
VERSION:2.0
CALSCALE:GREGORIAN
PRODID:-//Diputació de Barcelona//DibaCMS//EN
BEGIN:VEVENT
UID:15479
DTSTAMP:20260426T044318
DTSTART:20260104T120000
DTEND:20260104T133000
SUMMARY:Ballada de sardanes
LOCATION:Parc del Quiosc 
METHOD:PUBLISH
X-WR-CALNAME:ajuntament@llicamunt.cat
X-WR-TIMEZONE:Europe/Madrid
DESCRIPTION:
URI:https://www.llicamunt.cat/actualitat/agenda/15479-ballada-de-sardanes.html
CLASS:PUBLIC
END:VEVENT
END:VCALENDAR
