BEGIN:VCALENDAR
VERSION:2.0
CALSCALE:GREGORIAN
PRODID:-//Diputació de Barcelona//DibaCMS//EN
BEGIN:VEVENT
UID:15487
DTSTAMP:20260426T044204
DTSTART:20260107T190000
DTEND:20260107T200000
SUMMARY:Missa de Sant Julià
LOCATION:Costa de Can Puig, s/n 08186 Lliçà d'Amunt
METHOD:PUBLISH
X-WR-CALNAME:ajuntament@llicamunt.cat
X-WR-TIMEZONE:Europe/Madrid
DESCRIPTION: 

 

URI:https://www.llicamunt.cat/actualitat/agenda/15487-missa-de-sant-julia.html
CLASS:PUBLIC
END:VEVENT
END:VCALENDAR
