BEGIN:VCALENDAR
VERSION:2.0
CALSCALE:GREGORIAN
PRODID:-//Diputació de Barcelona//DibaCMS//EN
BEGIN:VEVENT
UID:15488
DTSTAMP:20260426T061539
DTSTART:20260110T180000
DTEND:20260110T200000
SUMMARY:41a Trobada de Corals de la Vall del Tenes
LOCATION:c. de l'Aliança, 17 08186 Lliçà d'Amunt
METHOD:PUBLISH
X-WR-CALNAME:ajuntament@llicamunt.cat
X-WR-TIMEZONE:Europe/Madrid
DESCRIPTION:
URI:https://www.llicamunt.cat/actualitat/agenda/41a-trobada-de-corals-de-la-vall-del-tenes.html
CLASS:PUBLIC
END:VEVENT
END:VCALENDAR
