BEGIN:VCALENDAR
VERSION:2.0
CALSCALE:GREGORIAN
PRODID:-//Diputació de Barcelona//DibaCMS//EN
BEGIN:VEVENT
UID:15536
DTSTAMP:20260426T044118
DTSTART:20260114T000000
DTEND:20260126T000000
SUMMARY:Exposició: "Dones trencant barreres. Transformant les ciutats mediterrànies"
LOCATION:c. de Castelló de la Plana, 11 08186   Lliçà d'Amunt
METHOD:PUBLISH
X-WR-CALNAME:ajuntament@llicamunt.cat
X-WR-TIMEZONE:Europe/Madrid
DESCRIPTION:
URI:https://www.llicamunt.cat/actualitat/agenda/exposicio-dones-trencant-barreres-transformant-les-ciutats-mediterranies.html
CLASS:PUBLIC
END:VEVENT
END:VCALENDAR
