BEGIN:VCALENDAR
VERSION:2.0
CALSCALE:GREGORIAN
PRODID:-//Diputació de Barcelona//DibaCMS//EN
BEGIN:VEVENT
UID:15552
DTSTAMP:20260422T191721
DTSTART:20260731T080000
DTEND:20260806T220000
SUMMARY:Farmàcia M. Vela (Santa Eulàlia de Ronçana) 
LOCATION:
METHOD:PUBLISH
X-WR-CALNAME:ajuntament@llicamunt.cat
X-WR-TIMEZONE:Europe/Madrid
DESCRIPTION:
URI:https://www.llicamunt.cat/temes/salut/farmacies-de-guardia-diurnes-de-la-vall-del-tenes-/15552-farmacia-m-vela-santa-eulalia-de-roncana-.html
CLASS:PUBLIC
END:VEVENT
END:VCALENDAR
