BEGIN:VCALENDAR
VERSION:2.0
CALSCALE:GREGORIAN
PRODID:-//Diputació de Barcelona//DibaCMS//EN
BEGIN:VEVENT
UID:15554
DTSTAMP:20260422T153552
DTSTART:20260814T080000
DTEND:20260820T220000
SUMMARY:Farmàcia J. Torras (Bigues i Riells del Fai) 
LOCATION:
METHOD:PUBLISH
X-WR-CALNAME:ajuntament@llicamunt.cat
X-WR-TIMEZONE:Europe/Madrid
DESCRIPTION:
URI:https://www.llicamunt.cat/temes/salut/farmacies-de-guardia-diurnes-de-la-vall-del-tenes-/15554-farmacia-j-torras-bigues-i-riells-del-fai-.html
CLASS:PUBLIC
END:VEVENT
END:VCALENDAR
