BEGIN:VCALENDAR
VERSION:2.0
CALSCALE:GREGORIAN
PRODID:-//Diputació de Barcelona//DibaCMS//EN
BEGIN:VEVENT
UID:15562
DTSTAMP:20260422T153610
DTSTART:20261009T080000
DTEND:20261015T220000
SUMMARY:Farmàcia J. Serra (Bigues i Riells del Fai)  
LOCATION:
METHOD:PUBLISH
X-WR-CALNAME:ajuntament@llicamunt.cat
X-WR-TIMEZONE:Europe/Madrid
DESCRIPTION:
URI:https://www.llicamunt.cat/temes/salut/farmacies-de-guardia-diurnes-de-la-vall-del-tenes-/15562-farmacia-j-serra-bigues-i-riells-del-fai-.html
CLASS:PUBLIC
END:VEVENT
END:VCALENDAR
