BEGIN:VCALENDAR
VERSION:2.0
CALSCALE:GREGORIAN
PRODID:-//Diputació de Barcelona//DibaCMS//EN
BEGIN:VEVENT
UID:15565
DTSTAMP:20260422T152316
DTSTART:20261030T080000
DTEND:20261105T080000
SUMMARY:Farmàcia M. Vela (Santa Eulàlia de Ronçana) 
LOCATION:
METHOD:PUBLISH
X-WR-CALNAME:ajuntament@llicamunt.cat
X-WR-TIMEZONE:Europe/Madrid
DESCRIPTION:
URI:https://www.llicamunt.cat/temes/salut/farmacies-de-guardia-diurnes-de-la-vall-del-tenes-/15565-farmacia-m-vela-santa-eulalia-de-roncana-.html
CLASS:PUBLIC
END:VEVENT
END:VCALENDAR
