BEGIN:VCALENDAR
VERSION:2.0
CALSCALE:GREGORIAN
PRODID:-//Diputació de Barcelona//DibaCMS//EN
BEGIN:VEVENT
UID:15566
DTSTAMP:20260422T180851
DTSTART:20261106T080000
DTEND:20261112T220000
SUMMARY:Farmàcia N-J Rubio Esplugas (Lliçà de Vall)   
LOCATION:
METHOD:PUBLISH
X-WR-CALNAME:ajuntament@llicamunt.cat
X-WR-TIMEZONE:Europe/Madrid
DESCRIPTION:
URI:https://www.llicamunt.cat/temes/salut/farmacies-de-guardia-diurnes-de-la-vall-del-tenes-/15566-farmacia-n-j-rubio-esplugas-llica-de-vall-.html
CLASS:PUBLIC
END:VEVENT
END:VCALENDAR
