BEGIN:VCALENDAR
VERSION:2.0
CALSCALE:GREGORIAN
PRODID:-//Diputació de Barcelona//DibaCMS//EN
BEGIN:VEVENT
UID:15567
DTSTAMP:20260422T180912
DTSTART:20261113T080000
DTEND:20261119T220000
SUMMARY:Farmàcia J. Torras (Bigues i Riells del Fai) 
LOCATION:
METHOD:PUBLISH
X-WR-CALNAME:ajuntament@llicamunt.cat
X-WR-TIMEZONE:Europe/Madrid
DESCRIPTION:
URI:https://www.llicamunt.cat/temes/salut/farmacies-de-guardia-diurnes-de-la-vall-del-tenes-/15567-farmacia-j-torras-bigues-i-riells-del-fai-.html
CLASS:PUBLIC
END:VEVENT
END:VCALENDAR
