BEGIN:VCALENDAR
VERSION:2.0
CALSCALE:GREGORIAN
PRODID:-//Diputació de Barcelona//DibaCMS//EN
BEGIN:VEVENT
UID:15570
DTSTAMP:20260422T193452
DTSTART:20261204T080000
DTEND:20261210T220000
SUMMARY:Farmàcia N. Salayet (Santa Eulàlia de Ronçana)  
LOCATION:
METHOD:PUBLISH
X-WR-CALNAME:ajuntament@llicamunt.cat
X-WR-TIMEZONE:Europe/Madrid
DESCRIPTION:
URI:https://www.llicamunt.cat/temes/salut/farmacies-de-guardia-diurnes-de-la-vall-del-tenes-/15570-farmacia-n-salayet-santa-eulalia-de-roncana-.html
CLASS:PUBLIC
END:VEVENT
END:VCALENDAR
