BEGIN:VCALENDAR
VERSION:2.0
CALSCALE:GREGORIAN
PRODID:-//Diputació de Barcelona//DibaCMS//EN
BEGIN:VEVENT
UID:15572
DTSTAMP:20260422T145306
DTSTART:20261218T080000
DTEND:20261224T220000
SUMMARY:Farmàcia A. M. Ortiz (Bigues i Riells del Fai)  
LOCATION:
METHOD:PUBLISH
X-WR-CALNAME:ajuntament@llicamunt.cat
X-WR-TIMEZONE:Europe/Madrid
DESCRIPTION:
URI:https://www.llicamunt.cat/temes/salut/farmacies-de-guardia-diurnes-de-la-vall-del-tenes-/15572-farmacia-a-m-ortiz-bigues-i-riells-del-fai-.html
CLASS:PUBLIC
END:VEVENT
END:VCALENDAR
