BEGIN:VCALENDAR
VERSION:2.0
CALSCALE:GREGORIAN
PRODID:-//Diputació de Barcelona//DibaCMS//EN
BEGIN:VEVENT
UID:15574
DTSTAMP:20260422T145406
DTSTART:20270101T080000
DTEND:20270107T220000
SUMMARY:Farmàcia M. Isern (Lliçà de Vall) 
LOCATION:
METHOD:PUBLISH
X-WR-CALNAME:ajuntament@llicamunt.cat
X-WR-TIMEZONE:Europe/Madrid
DESCRIPTION:
URI:https://www.llicamunt.cat/temes/salut/farmacies-de-guardia-diurnes-de-la-vall-del-tenes-/15574-farmacia-m-isern-llica-de-vall-.html
CLASS:PUBLIC
END:VEVENT
END:VCALENDAR
