BEGIN:VCALENDAR
VERSION:2.0
CALSCALE:GREGORIAN
PRODID:-//Diputació de Barcelona//DibaCMS//EN
BEGIN:VEVENT
UID:15624
DTSTAMP:20260421T182720
DTSTART:20260424T213000
DTEND:20260425T003000
SUMMARY:LLIKSOUND amb CRIM + Cap Quadrat
LOCATION:c. de l'Aliança, 17 08186 Lliçà d'Amunt
METHOD:PUBLISH
X-WR-CALNAME:ajuntament@llicamunt.cat
X-WR-TIMEZONE:Europe/Madrid
DESCRIPTION:
URI:https://www.llicamunt.cat/actualitat/agenda/lliksound-amb-crim--cap-quadrat.html
CLASS:PUBLIC
END:VEVENT
END:VCALENDAR
