BEGIN:VCALENDAR
VERSION:2.0
CALSCALE:GREGORIAN
PRODID:-//Diputació de Barcelona//DibaCMS//EN
BEGIN:VEVENT
UID:15850
DTSTAMP:20260421T182942
DTSTART:20260425T080000
DTEND:20260425T190000
SUMMARY:Campionat de Catalunya de patinatge de velocitat
LOCATION:c. d’Antoni Gaudí, s/n 08186   Lliçà d'Amunt
METHOD:PUBLISH
X-WR-CALNAME:ajuntament@llicamunt.cat
X-WR-TIMEZONE:Europe/Madrid
DESCRIPTION:
URI:https://www.llicamunt.cat/actualitat/agenda/15850-campionat-de-catalunya-de-patinatge-de-velocitat.html
CLASS:PUBLIC
END:VEVENT
END:VCALENDAR
